BEGIN:VCALENDAR
VERSION:2.0
PRODID:-//hacksw/handcal//NONSGML v1.0//EN
BEGIN:VEVENT
SUMMARY:Gymnase Municipal indisponible (Corso)
UID:13c54204-b388-43d3-a906-2755c9c92e57
DTSTART:20260614T220000Z
DTEND:20260719T220000Z
LOCATION:Localisation   
CATEGORIES:Entrainement
STATUS:
URL;VALUE=URI:https://archersderives.sportsregions.fr/evenements/2026/06/15/gymnase-municipal-indisponible-corso-2436776
END:VEVENT
END:VCALENDAR
