BEGIN:VCALENDAR
VERSION:2.0
PRODID:-//hacksw/handcal//NONSGML v1.0//EN
BEGIN:VEVENT
SUMMARY:Gymnase Municipal indisponible
UID:d1ecad64-480c-47fe-b9c8-af99af5b9af1
DTSTART:20260611T220000Z
DTEND:20260614T220000Z
LOCATION:Localisation   
CATEGORIES:Entrainement
STATUS:
URL;VALUE=URI:https://archersderives.sportsregions.fr/evenements/2026/06/12/gymnase-municipal-indisponible-2436775
END:VEVENT
END:VCALENDAR
