BEGIN:VCALENDAR
VERSION:2.0
PRODID:-//hacksw/handcal//NONSGML v1.0//EN
BEGIN:VEVENT
SUMMARY:Gymnase Municipal indisponible
UID:526712e9-afae-42b4-855c-2e1970cef2d9
DTSTART:20260604T220000Z
DTEND:20260607T220000Z
LOCATION:Localisation   
CATEGORIES:Entrainement
STATUS:
URL;VALUE=URI:https://archersderives.sportsregions.fr/evenements/2026/06/05/gymnase-municipal-indisponible-2436774
END:VEVENT
END:VCALENDAR
