BEGIN:VCALENDAR
VERSION:2.0
PRODID:-//hacksw/handcal//NONSGML v1.0//EN
BEGIN:VEVENT
SUMMARY:Gymnase Municipal indisponible
UID:c7ea5163-8d9b-470d-89e6-7fd563339232
DTSTART:20260528T220000Z
DTEND:20260531T220000Z
LOCATION:Localisation   
CATEGORIES:Entrainement
STATUS:
URL;VALUE=URI:https://archersderives.sportsregions.fr/evenements/2026/05/29/gymnase-municipal-indisponible-2436773
END:VEVENT
END:VCALENDAR
