BEGIN:VCALENDAR
VERSION:2.0
PRODID:-//hacksw/handcal//NONSGML v1.0//EN
BEGIN:VEVENT
SUMMARY:Concours TAE - Viviers (07)
UID:e388dc86-cba8-44f3-aa4f-418092fcd566
DTSTART:20260523T220000Z
DTEND:20260524T220000Z
LOCATION:Localisation   
CATEGORIES:Sportif
STATUS:
URL;VALUE=URI:https://archersderives.sportsregions.fr/evenements/2026/05/24/concours-tae-viviers-07-2440667
END:VEVENT
END:VCALENDAR
