BEGIN:VCALENDAR
VERSION:2.0
PRODID:-//hacksw/handcal//NONSGML v1.0//EN
BEGIN:VEVENT
SUMMARY:Challenge 2eme manche - Viviers (07)
UID:a3202894-0fa6-4214-9cae-9d7478d061b1
DTSTART:20260522T220000Z
DTEND:20260523T220000Z
LOCATION:Localisation   
CATEGORIES:Sportif
STATUS:
URL;VALUE=URI:https://archersderives.sportsregions.fr/evenements/2026/05/23/challenge-2eme-manche-viviers-07-2440664
END:VEVENT
END:VCALENDAR
