BEGIN:VCALENDAR
VERSION:2.0
PRODID:-//hacksw/handcal//NONSGML v1.0//EN
BEGIN:VEVENT
SUMMARY:Gymnase Municipal indisponible
UID:34ed9f5b-27f4-46f3-8aba-7336e03ce4d1
DTSTART:20260515T220000Z
DTEND:20260517T220000Z
LOCATION:Localisation   
CATEGORIES:Entrainement
STATUS:
URL;VALUE=URI:https://archersderives.sportsregions.fr/evenements/2026/05/16/gymnase-municipal-indisponible-2436771
END:VEVENT
END:VCALENDAR
