BEGIN:VCALENDAR
VERSION:2.0
PRODID:-//hacksw/handcal//NONSGML v1.0//EN
BEGIN:VEVENT
SUMMARY:Gymnase Municipal indisponible
UID:1a030811-ed40-41fd-9836-8bb51c084aa4
DTSTART:20260508T220000Z
DTEND:20260510T220000Z
LOCATION:Localisation   
CATEGORIES:Entrainement
STATUS:
URL;VALUE=URI:https://archersderives.sportsregions.fr/evenements/2026/05/09/gymnase-municipal-indisponible-2436770
END:VEVENT
END:VCALENDAR
